BEGIN:VCALENDAR
VERSION:2.0
PRODID:-//InvisionCommunity Events 4.7.21//EN
METHOD:PUBLISH
CALSCALE:GREGORIAN
REFRESH-INTERVAL:PT15M
X-PUBLISHED-TTL:PT15M
X-WR-CALNAME:Community Calendar
NAME:Community Calendar
BEGIN:VTIMEZONE
TZID:Europe/London
TZURL:http://tzurl.org/zoneinfo/Europe/London
X-LIC-LOCATION:Europe/London
BEGIN:DAYLIGHT
TZOFFSETFROM:+0000
TZOFFSETTO:+0100
TZNAME:BST
DTSTART:20240331T020000Z
RRULE:FREQ=YEARLY;BYMONTH=3;BYDAY=-1SU
END:DAYLIGHT
BEGIN:STANDARD
TZOFFSETFROM:+0100
TZOFFSETTO:+0000
TZNAME:GMT
DTSTART:20241027T020000Z
RRULE:FREQ=YEARLY;BYMONTH=10;BYDAY=-1SU
END:STANDARD
END:VTIMEZONE
BEGIN:VEVENT
SUMMARY:HAPPY NEW YEAR
DTSTAMP:20241230T000554Z
SEQUENCE:0
UID:1-1-c308bba0632a8dad6bdbdad3cbbe4f1a@www.xponerat.com
ORGANIZER;CN="Piratesque":admin@xponerat.com
DESCRIPTION:\n	🍾🥂🎉\n\n\n\n	 \n\n\n\n	Happy New 2025!\n\n\n\n	\
	n\n
DTSTART;VALUE=DATE:20241231
END:VEVENT
END:VCALENDAR
